BEGIN:VCALENDAR
VERSION:2.0
PRODID:-//IP.Board Calendar 4.6.9 Beta 1//EN
METHOD:PUBLISH
CALSCALE:GREGORIAN
BEGIN:VTIMEZONE
TZID:Europe/London
TZURL:http://tzurl.org/zoneinfo/Europe/London
X-LIC-LOCATION:Europe/London
BEGIN:DAYLIGHT
TZOFFSETFROM:+0000
TZOFFSETTO:+0100
TZNAME:BST
DTSTART:20250330T020000Z
RRULE:FREQ=YEARLY;BYMONTH=3;BYDAY=-1SU
END:DAYLIGHT
BEGIN:STANDARD
TZOFFSETFROM:+0100
TZOFFSETTO:+0000
TZNAME:GMT
DTSTART:20251026T020000Z
RRULE:FREQ=YEARLY;BYMONTH=10;BYDAY=-1SU
END:STANDARD
END:VTIMEZONE
BEGIN:VTIMEZONE
TZID:Europe/London
TZURL:http://tzurl.org/zoneinfo/Europe/London
X-LIC-LOCATION:Europe/London
BEGIN:DAYLIGHT
TZOFFSETFROM:+0000
TZOFFSETTO:+0100
TZNAME:BST
DTSTART:20230326T020000Z
RRULE:FREQ=YEARLY;BYMONTH=3;BYDAY=-1SU
END:DAYLIGHT
BEGIN:STANDARD
TZOFFSETFROM:+0100
TZOFFSETTO:+0000
TZNAME:GMT
DTSTART:20231029T020000Z
RRULE:FREQ=YEARLY;BYMONTH=10;BYDAY=-1SU
END:STANDARD
END:VTIMEZONE
BEGIN:VTIMEZONE
TZID:Europe/London
TZURL:http://tzurl.org/zoneinfo/Europe/London
X-LIC-LOCATION:Europe/London
BEGIN:DAYLIGHT
TZOFFSETFROM:+0000
TZOFFSETTO:+0100
TZNAME:BST
DTSTART:20150329T020000Z
RRULE:FREQ=YEARLY;BYMONTH=3;BYDAY=-1SU
END:DAYLIGHT
BEGIN:STANDARD
TZOFFSETFROM:+0100
TZOFFSETTO:+0000
TZNAME:GMT
DTSTART:20151025T020000Z
RRULE:FREQ=YEARLY;BYMONTH=10;BYDAY=-1SU
END:STANDARD
END:VTIMEZONE
BEGIN:VTIMEZONE
TZID:Europe/London
TZURL:http://tzurl.org/zoneinfo/Europe/London
X-LIC-LOCATION:Europe/London
BEGIN:DAYLIGHT
TZOFFSETFROM:+0000
TZOFFSETTO:+0100
TZNAME:BST
DTSTART:20130331T020000Z
RRULE:FREQ=YEARLY;BYMONTH=3;BYDAY=-1SU
END:DAYLIGHT
BEGIN:STANDARD
TZOFFSETFROM:+0100
TZOFFSETTO:+0000
TZNAME:GMT
DTSTART:20131027T020000Z
RRULE:FREQ=YEARLY;BYMONTH=10;BYDAY=-1SU
END:STANDARD
END:VTIMEZONE
BEGIN:VEVENT
SUMMARY:Rybomania 2025 – sezon wędkarski rozpoczniemy 7-9 marca w
	 Poznaniu!
DTSTAMP:20241128T172759Z
SEQUENCE:0
UID:1175-2-aeac1a162b24d20a0e73454c683939ce@forumwedkarskie.pl
ORGANIZER;CN="hege":kontakt@forumwedkarskie.pl
DESCRIPTION:\n	W dniach 7-9 marca odbędą się Targi RYBOMANIA 2025\, n
	ajwiększa impreza dla branży wędkarskiej w Europie. Na Międzynarodowyc
	h Targach Poznańskich spotkają się najlepsi producenci i dystrybutorzy 
	branży wędkarskiej oraz pasjonaci z Polski i Europy.\n\n\n\n	Targi Rybom
	ania tradycyjnie już otworzą nowy sezon nad wodami! Ponownie nie zabrakn
	ie na nich doskonałego sprzętu\, przynęt\, akcesoriów\, odzieży wędk
	arskiej i turystycznej najlepszych producentów\, namiotów\, łóżek\, f
	oteli\, łodzi i pontonów. Coś dla siebie znajdą profesjonaliści i ho
	bbyści każdej metody wędkarskiej\, w szczególności karpiarstwa\, węd
	karstwa sumowego\, method feeder czy spinningu. Dodatkowo w czasie przysz
	łorocznej edycji planowane jest poszerzenie tematyki wędkarstwa muchoweg
	o.\n\n\n\n	Edycja 2024 – najwięksi w Polsce i Europie\n\n\n\n	W 2024 ro
	ku społeczność wędkarska zawitała do Poznania w znakomitej liczbie 3
	1 748 uczestników\, którzy przybyli dla tych trzech wyjątkowych dni z 
	ponad 20 krajów\, sprawiając tym samym\, że Rybomania 2024 była najw
	iększą tego typu imprezą w Europie. Stoiska producentów\, dystrybutor
	ów i sklepów prezentowały się wyjątkowo bogato: najnowsze modele węd
	ek i kołowrotków\, przynęty\, nowe echosondy i polska premiera innowacy
	jnej łodzi zanętowej to tylko część tego\, co oferowali wystawcy. Zo
	baczyć można było nowe modele łóżek turystycznych\, namiotów i odz
	ieży\, nowe silniki elektryczne i spalinowe. Na RYBOMANII swoją pierwsz
	ą odsłonę miała także wyjątkowa ciekawostka – łódź stworzona p
	rzez firmę VIKING specjalnie na potrzeby osób z niepełnosprawnościami.
	 Swoją ofertę prezentowało ponad 250 wystawców z 12 krajów. Na scen
	ie głównej gwiazdy i eksperci wędkarstwa dzielili się swoimi doświadc
	zeniami i wiedzą\, wystąpili między innymi: Jakub Vagner\, Ross Honey\,
	 Kamil Walicki\, Radosław Witólski\, Robert Adamski\, Piotr Boufał\, R
	afał Mleczak\, Tomasz Lewandowski\, czy Monika i Łukasz Lechowscy\, z pu
	blicznością spotkali się też zwycięzcy prestiżowych zawodów\, m.in.
	 Stairs2Hell i Polish Carp Masters 2023. Dodatkowo\, pierwszego dnia odby
	ła się konferencja z udziałem naukowców z Uniwersytetu Warmińsko- Maz
	urskeigo. Interesującym punktem była również inauguracja licytacji jub
	ileuszowego katamaranu wykonanego na zlecenie firmy MEUS z okazji 25-lecia
	 zawodów World Carp Classic.\n\n\n\n	Społeczność połączona przygodą
	\n\n\n\n	Nadchodząca edycja (7-9 marca 2025 r.) ponownie stanie się miej
	scem spotkań wędkarskich w każdym tych słów znaczeniu: relacji biznes
	owych\, koleżeńskich\, spotkań z gwiazdami\, ale także tych pierwszy
	ch „spotkań z wędką” zupełnych nowicjuszy i najmłodszych uczest
	ników Targów. To się nie nudzi – obserwowanie pasjonatów\, którzy 
	z błyskiem w oku przemierzają pawilony\, zbijane „piątki” na każdy
	m kroku\, śmiech i rozentuzjazmowane głosy. Każda edycja to pozornie ta
	 sama impreza\, jednak każdorazowo wywołuje ona bardzo świeże\, silne
	 wrażenia. Emocje „jak na rybach” to zdecydowanie nie tutaj – mów
	i Miłosz Jankowiak\, dyrektor projektu RYBOMANIA. Targi RYBOMANIA to wyda
	rzenie\, którego podstawą jest obecność najważniejszych marek i skl
	epów wędkarskich na dziesiątkach tysięcy metrów kwadratowych ekspozyc
	ji. Wśród wystawców ponownie pojawią się czołowi producenci i dystry
	butorzy sprzętu i akcesoriów dla wędkarzy\, a także znane sklepy wędk
	arskie. Uzupełnieniem ekspozycji będą jak zawsze oferty łowisk\, ręko
	dzielników i firm z sektora turystyki wędkarskiej oraz sprzętu pływaj
	ącego. Przyszłoroczna edycja odbędzie się (to zmiana względem edycji 
	2024) w pawilonach 3\, 3A\, 4 oraz części pawilonu 5.\n\n\n\n	Wśród n
	ieodłącznych atrakcji RYBOMANII nie zabraknie Gigantycznego Akwarium. Zb
	iornik na niemal 20 000 litrów wypełniony okazami polskich ryb\, „tes
	tujących” sprzęt najlepszych firm i umiejętności wybitnych wędkarzy
	 na oczach widzów. W programie wydarzeń jak zawsze scena prelekcyjna\, a
	 na niej wystąpienia najbardziej uznanych autorytetów rozmaitych dziedzi
	n wędkarstwa\, a także kolejna odsłona Akademii Młodego Wędkarza skie
	rowana do dzieci\, mająca na celu rozpalenie w nich wędkarskiej pasji w 
	poszanowaniu do środowiska naturalnego.\n\n\n\n	Targi RYBOMANIA to przede
	 wszystkim ogromna społeczność\, dla której wspólnym mianownikiem je
	st chęć przeżycia przygody\, niezwykłe emocje i oczywiście oczekiwani
	e na rybę życia. To miejsce spotkań pasjonatów – zarówno tych z wie
	loletnim stażem i ogromną wiedzą\, jak i tych\, którzy dopiero napisz
	ą swoją historię wędkarską. To także wydarzenie\, które pozwala p
	oznać piękno przyrody i kształtuje postawy mające na celu jej ochronę
	\, a zarazem miejsce dyskusji o aktualnych zagadnieniach dotyczących śro
	dowiska naturalnego. Zachęcamy do zarezerwowania w kalendarzu daty przys
	złorocznej RYBOMANII – 7-9 marca 2025 r. na Międzynarodowych Targach P
	oznańskich.\n\n\n\n	Bilety dostępne na:  ToBilet.pl\n\n\n\n	Więcej inf
	ormacji: Rybomania.com.pl\n\n
DTSTART;VALUE=DATE:20250307
DTEND;VALUE=DATE:20250310
END:VEVENT
BEGIN:VEVENT
SUMMARY:Targi Rybomania
DTSTAMP:20230114T170733Z
SEQUENCE:0
UID:1172-2-aeac1a162b24d20a0e73454c683939ce@forumwedkarskie.pl
ORGANIZER;CN="hege":kontakt@forumwedkarskie.pl
DESCRIPTION:\n	RYBOMANIA to największe i najważniejsze wydarzenie wę
	dkarskie w Europie. Wyróżnia je obecność w kilku miastach w całej Po
	lsce. Setki wystawców\, dziesiątki tysięcy metrów kwadratowych ekspozy
	cji i ponad 60 000 zwiedzających rocznie. To właśnie na RYBOMANII preze
	ntowane są nowości produktowe najbardziej renomowanych marek świata.\n\
	n\n\n	\n\n\n\n	\n		\n	\n\n\n\n	GODZINY OTWARCIA\n\n	Piątek\, 3 marca (VIP
	 DAY) 10:00 – 18:00\n\n	Sobota\, 4 marca 10:00 – 17:00\n\n	Niedziela\,
	 5 marca 10:00 – 16:00\n\n	Więcej informacji: www.rybomania.com.pl\n\n\
	n\n	 \n\n
DTSTART;VALUE=DATE:20230303
DTEND;VALUE=DATE:20230306
END:VEVENT
BEGIN:VEVENT
SUMMARY:TARGI ZABRZE 2015
DTSTAMP:20141203T144509Z
SEQUENCE:2
UID:1158-2-aeac1a162b24d20a0e73454c683939ce@forumwedkarskie.pl
ORGANIZER;CN="Markoz":kontakt@forumwedkarskie.pl
DESCRIPTION:
DTSTART;VALUE=DATE:20150306
DTEND;VALUE=DATE:20150309
END:VEVENT
BEGIN:VEVENT
SUMMARY:Puchar tyczka.fora
DTSTAMP:20130522T101538Z
SEQUENCE:1
UID:1157-2-aeac1a162b24d20a0e73454c683939ce@forumwedkarskie.pl
ORGANIZER;CN="www.ImpulseFish.eu":kontakt@forumwedkarskie.pl
DESCRIPTION:
DTSTART;VALUE=DATE:20130602
END:VEVENT
BEGIN:VEVENT
SUMMARY:IX OG??LNOPOLSKIE ZAWODY  PUCHAR WKS SANDACZ
DTSTAMP:20130514T112949Z
SEQUENCE:1
UID:1155-2-aeac1a162b24d20a0e73454c683939ce@forumwedkarskie.pl
ORGANIZER;CN="Jarosław Majewski":kontakt@forumwedkarskie.pl
DESCRIPTION:
DTSTART;VALUE=DATE:20130609
END:VEVENT
BEGIN:VEVENT
SUMMARY:Puchar Normark.
DTSTAMP:20130124T152747Z
SEQUENCE:0
UID:1154-2-aeac1a162b24d20a0e73454c683939ce@forumwedkarskie.pl
ORGANIZER;CN="wind":kontakt@forumwedkarskie.pl
DESCRIPTION:
DTSTART;VALUE=DATE:20130520
DTEND;VALUE=DATE:20130603
END:VEVENT
BEGIN:VEVENT
SUMMARY:
DTSTAMP:20130124T152517Z
SEQUENCE:0
UID:1153-2-aeac1a162b24d20a0e73454c683939ce@forumwedkarskie.pl
ORGANIZER;CN="wind":kontakt@forumwedkarskie.pl
DESCRIPTION:
DTSTART;VALUE=DATE:20130624
DTEND;VALUE=DATE:20130630
END:VEVENT
BEGIN:VEVENT
SUMMARY:Zawody Karpiowe o Puchar Jeziora Lgi?? Du??y
DTSTAMP:20130124T152240Z
SEQUENCE:0
UID:1152-2-aeac1a162b24d20a0e73454c683939ce@forumwedkarskie.pl
ORGANIZER;CN="wind":kontakt@forumwedkarskie.pl
DESCRIPTION:
DTSTART;VALUE=DATE:20130925
DTEND;VALUE=DATE:20130930
END:VEVENT
BEGIN:VEVENT
SUMMARY:VIII Zawody Karpiowe o Puchar Starbaits.
DTSTAMP:20130124T152030Z
SEQUENCE:0
UID:1151-2-aeac1a162b24d20a0e73454c683939ce@forumwedkarskie.pl
ORGANIZER;CN="wind":kontakt@forumwedkarskie.pl
DESCRIPTION:
DTSTART;VALUE=DATE:20130918
DTEND;VALUE=DATE:20130923
END:VEVENT
BEGIN:VEVENT
SUMMARY:
DTSTAMP:20130124T151829Z
SEQUENCE:0
UID:1150-2-aeac1a162b24d20a0e73454c683939ce@forumwedkarskie.pl
ORGANIZER;CN="wind":kontakt@forumwedkarskie.pl
DESCRIPTION:
DTSTART;VALUE=DATE:20130905
DTEND;VALUE=DATE:20130909
END:VEVENT
BEGIN:VEVENT
SUMMARY:Jesienne ??erowanie z Prologic
DTSTAMP:20130124T151641Z
SEQUENCE:0
UID:1149-2-aeac1a162b24d20a0e73454c683939ce@forumwedkarskie.pl
ORGANIZER;CN="wind":kontakt@forumwedkarskie.pl
DESCRIPTION:
DTSTART;VALUE=DATE:20130904
DTEND;VALUE=DATE:20130909
END:VEVENT
BEGIN:VEVENT
SUMMARY:GP Golden Carp Nekielka 2013 cz. 2
DTSTAMP:20130124T151358Z
SEQUENCE:0
UID:1148-2-aeac1a162b24d20a0e73454c683939ce@forumwedkarskie.pl
ORGANIZER;CN="wind":kontakt@forumwedkarskie.pl
DESCRIPTION:
DTSTART;VALUE=DATE:20130828
DTEND;VALUE=DATE:20130902
END:VEVENT
BEGIN:VEVENT
SUMMARY:II Gos??awicki Puchar Bandit Carp
DTSTAMP:20130124T151106Z
SEQUENCE:0
UID:1147-2-aeac1a162b24d20a0e73454c683939ce@forumwedkarskie.pl
ORGANIZER;CN="wind":kontakt@forumwedkarskie.pl
DESCRIPTION:
DTSTART;VALUE=DATE:20130821
DTEND;VALUE=DATE:20130826
END:VEVENT
BEGIN:VEVENT
SUMMARY:VII Zawody Karpiowe o Puchar Starbaits.
DTSTAMP:20130124T150911Z
SEQUENCE:0
UID:1146-2-aeac1a162b24d20a0e73454c683939ce@forumwedkarskie.pl
ORGANIZER;CN="wind":kontakt@forumwedkarskie.pl
DESCRIPTION:
DTSTART;VALUE=DATE:20130724
DTEND;VALUE=DATE:20130729
END:VEVENT
BEGIN:VEVENT
SUMMARY:Miting Polskich Dru??yn Karpiowych
DTSTAMP:20130124T150655Z
SEQUENCE:0
UID:1145-2-aeac1a162b24d20a0e73454c683939ce@forumwedkarskie.pl
ORGANIZER;CN="wind":kontakt@forumwedkarskie.pl
DESCRIPTION:
DTSTART;VALUE=DATE:20130626
DTEND;VALUE=DATE:20130701
END:VEVENT
BEGIN:VEVENT
SUMMARY:II Gangsterskie Dni Karpiowe.
DTSTAMP:20130124T150431Z
SEQUENCE:0
UID:1144-2-aeac1a162b24d20a0e73454c683939ce@forumwedkarskie.pl
ORGANIZER;CN="wind":kontakt@forumwedkarskie.pl
DESCRIPTION:
DTSTART;VALUE=DATE:20130620
DTEND;VALUE=DATE:20130624
END:VEVENT
BEGIN:VEVENT
SUMMARY:VI Zawody Karpiowe o Puchar Starbaits.
DTSTAMP:20130124T150226Z
SEQUENCE:0
UID:1143-2-aeac1a162b24d20a0e73454c683939ce@forumwedkarskie.pl
ORGANIZER;CN="wind":kontakt@forumwedkarskie.pl
DESCRIPTION:
DTSTART;VALUE=DATE:20130612
DTEND;VALUE=DATE:20130617
END:VEVENT
BEGIN:VEVENT
SUMMARY:
DTSTAMP:20130124T145953Z
SEQUENCE:0
UID:1142-2-aeac1a162b24d20a0e73454c683939ce@forumwedkarskie.pl
ORGANIZER;CN="wind":kontakt@forumwedkarskie.pl
DESCRIPTION:
DTSTART;VALUE=DATE:20130530
DTEND;VALUE=DATE:20130603
END:VEVENT
BEGIN:VEVENT
SUMMARY:Rosnowskie Dni Karpiowe
DTSTAMP:20130124T145601Z
SEQUENCE:0
UID:1141-2-aeac1a162b24d20a0e73454c683939ce@forumwedkarskie.pl
ORGANIZER;CN="wind":kontakt@forumwedkarskie.pl
DESCRIPTION:
DTSTART;VALUE=DATE:20130530
DTEND;VALUE=DATE:20130603
END:VEVENT
BEGIN:VEVENT
SUMMARY:Zawody Karpiowe na Starorzece.
DTSTAMP:20130124T145415Z
SEQUENCE:0
UID:1140-2-aeac1a162b24d20a0e73454c683939ce@forumwedkarskie.pl
ORGANIZER;CN="wind":kontakt@forumwedkarskie.pl
DESCRIPTION:
DTSTART;VALUE=DATE:20130522
DTEND;VALUE=DATE:20130527
END:VEVENT
BEGIN:VEVENT
SUMMARY:GP Golden Carp Nekielka 2013 cz.1
DTSTAMP:20130124T145216Z
SEQUENCE:0
UID:1139-2-aeac1a162b24d20a0e73454c683939ce@forumwedkarskie.pl
ORGANIZER;CN="wind":kontakt@forumwedkarskie.pl
DESCRIPTION:
DTSTART;VALUE=DATE:20130515
DTEND;VALUE=DATE:20130520
END:VEVENT
BEGIN:VEVENT
SUMMARY:IV Cypriniada Gos??awicka.
DTSTAMP:20130124T144825Z
SEQUENCE:0
UID:1138-2-aeac1a162b24d20a0e73454c683939ce@forumwedkarskie.pl
ORGANIZER;CN="wind":kontakt@forumwedkarskie.pl
DESCRIPTION:
DTSTART;VALUE=DATE:20130508
DTEND;VALUE=DATE:20130513
END:VEVENT
BEGIN:VEVENT
SUMMARY:III Meeting with Carp
DTSTAMP:20130124T144649Z
SEQUENCE:0
UID:1137-2-aeac1a162b24d20a0e73454c683939ce@forumwedkarskie.pl
ORGANIZER;CN="wind":kontakt@forumwedkarskie.pl
DESCRIPTION:
DTSTART;VALUE=DATE:20130508
DTEND;VALUE=DATE:20130513
END:VEVENT
BEGIN:VEVENT
SUMMARY:III Maraton Karpiowy o Puchar Eurofishingu.
DTSTAMP:20130124T144449Z
SEQUENCE:0
UID:1136-2-aeac1a162b24d20a0e73454c683939ce@forumwedkarskie.pl
ORGANIZER;CN="wind":kontakt@forumwedkarskie.pl
DESCRIPTION:
DTSTART;VALUE=DATE:20130501
DTEND;VALUE=DATE:20130506
END:VEVENT
BEGIN:VEVENT
SUMMARY:
DTSTAMP:20130124T144142Z
SEQUENCE:0
UID:1135-2-aeac1a162b24d20a0e73454c683939ce@forumwedkarskie.pl
ORGANIZER;CN="wind":kontakt@forumwedkarskie.pl
DESCRIPTION:
DTSTART;VALUE=DATE:20130425
DTEND;VALUE=DATE:20130429
END:VEVENT
BEGIN:VEVENT
SUMMARY:Zawody Karpiowe \"U Bogdana\"
DTSTAMP:20130124T143927Z
SEQUENCE:0
UID:1134-2-aeac1a162b24d20a0e73454c683939ce@forumwedkarskie.pl
ORGANIZER;CN="wind":kontakt@forumwedkarskie.pl
DESCRIPTION:
DTSTART;VALUE=DATE:20130411
DTEND;VALUE=DATE:20130415
END:VEVENT
BEGIN:VEVENT
SUMMARY:Mistrzostwa Polski U14\,U18.
DTSTAMP:20130124T142108Z
SEQUENCE:0
UID:1133-2-aeac1a162b24d20a0e73454c683939ce@forumwedkarskie.pl
ORGANIZER;CN="wind":kontakt@forumwedkarskie.pl
DESCRIPTION:
DTSTART;VALUE=DATE:20130705
DTEND;VALUE=DATE:20130708
END:VEVENT
BEGIN:VEVENT
SUMMARY:Sp??awikowe GPx U14\,U18
DTSTAMP:20130124T141940Z
SEQUENCE:0
UID:1132-2-aeac1a162b24d20a0e73454c683939ce@forumwedkarskie.pl
ORGANIZER;CN="wind":kontakt@forumwedkarskie.pl
DESCRIPTION:Og??lnopolskie zawody sp??awikowe GPx U14\;U18. Wroc??aw.
DTSTART;VALUE=DATE:20130907
DTEND;VALUE=DATE:20130909
END:VEVENT
BEGIN:VEVENT
SUMMARY:Sp??awikowe GPx U14\,U18
DTSTAMP:20130124T141827Z
SEQUENCE:0
UID:1131-2-aeac1a162b24d20a0e73454c683939ce@forumwedkarskie.pl
ORGANIZER;CN="wind":kontakt@forumwedkarskie.pl
DESCRIPTION:
DTSTART;VALUE=DATE:20130510
DTEND;VALUE=DATE:20130513
END:VEVENT
BEGIN:VEVENT
SUMMARY:Sp??awikowe GPx U14\,U18
DTSTAMP:20130124T141637Z
SEQUENCE:0
UID:1130-2-aeac1a162b24d20a0e73454c683939ce@forumwedkarskie.pl
ORGANIZER;CN="wind":kontakt@forumwedkarskie.pl
DESCRIPTION:Og??lnopolskie zawody sp??awikowe GPx U14\,U18.??owisko kana
	?? ??ledziowy.
DTSTART;VALUE=DATE:20130419
DTEND;VALUE=DATE:20130422
END:VEVENT
BEGIN:VEVENT
SUMMARY:Mistrzostwa Polski Weteran??w.
DTSTAMP:20130124T141355Z
SEQUENCE:0
UID:1129-2-aeac1a162b24d20a0e73454c683939ce@forumwedkarskie.pl
ORGANIZER;CN="wind":kontakt@forumwedkarskie.pl
DESCRIPTION:
DTSTART;VALUE=DATE:20130927
DTEND;VALUE=DATE:20130930
END:VEVENT
BEGIN:VEVENT
SUMMARY:Mistrzostwa ??wiata Senior??w.
DTSTAMP:20130124T141234Z
SEQUENCE:0
UID:1128-2-aeac1a162b24d20a0e73454c683939ce@forumwedkarskie.pl
ORGANIZER;CN="wind":kontakt@forumwedkarskie.pl
DESCRIPTION:
DTSTART;VALUE=DATE:20130913
DTEND;VALUE=DATE:20130916
END:VEVENT
BEGIN:VEVENT
SUMMARY:Sp??awikowe Mistrzostwa Polski Senior??w i U23
DTSTAMP:20130124T141047Z
SEQUENCE:0
UID:1127-2-aeac1a162b24d20a0e73454c683939ce@forumwedkarskie.pl
ORGANIZER;CN="wind":kontakt@forumwedkarskie.pl
DESCRIPTION:
DTSTART;VALUE=DATE:20130719
DTEND;VALUE=DATE:20130722
END:VEVENT
BEGIN:VEVENT
SUMMARY:Sp??awikowe Mistrzostwa Polski Kobiet.
DTSTAMP:20130124T140842Z
SEQUENCE:0
UID:1126-2-aeac1a162b24d20a0e73454c683939ce@forumwedkarskie.pl
ORGANIZER;CN="wind":kontakt@forumwedkarskie.pl
DESCRIPTION:
DTSTART;VALUE=DATE:20130712
DTEND;VALUE=DATE:20130715
END:VEVENT
BEGIN:VEVENT
SUMMARY:Eliminacje do GPx 2014
DTSTAMP:20130124T140609Z
SEQUENCE:0
UID:1125-2-aeac1a162b24d20a0e73454c683939ce@forumwedkarskie.pl
ORGANIZER;CN="wind":kontakt@forumwedkarskie.pl
DESCRIPTION:
DTSTART;VALUE=DATE:20130621
DTEND;VALUE=DATE:20130624
END:VEVENT
BEGIN:VEVENT
SUMMARY:Eliminacje do GPx 2014
DTSTAMP:20130124T140415Z
SEQUENCE:0
UID:1124-2-aeac1a162b24d20a0e73454c683939ce@forumwedkarskie.pl
ORGANIZER;CN="wind":kontakt@forumwedkarskie.pl
DESCRIPTION:
DTSTART;VALUE=DATE:20130524
DTEND;VALUE=DATE:20130527
END:VEVENT
BEGIN:VEVENT
SUMMARY:Sp??awikowe GPx Puchar Fiume
DTSTAMP:20130124T135744Z
SEQUENCE:0
UID:1123-2-aeac1a162b24d20a0e73454c683939ce@forumwedkarskie.pl
ORGANIZER;CN="wind":kontakt@forumwedkarskie.pl
DESCRIPTION:
DTSTART;VALUE=DATE:20131011
DTEND;VALUE=DATE:20131014
END:VEVENT
BEGIN:VEVENT
SUMMARY:Sp??awikowe GPx Puchar Katowic
DTSTAMP:20130124T135557Z
SEQUENCE:0
UID:1122-2-aeac1a162b24d20a0e73454c683939ce@forumwedkarskie.pl
ORGANIZER;CN="wind":kontakt@forumwedkarskie.pl
DESCRIPTION:
DTSTART;VALUE=DATE:20130920
DTEND;VALUE=DATE:20130923
END:VEVENT
BEGIN:VEVENT
SUMMARY:Sp??awikowe GPx Puchar Poznania
DTSTAMP:20130124T135337Z
SEQUENCE:0
UID:1121-2-aeac1a162b24d20a0e73454c683939ce@forumwedkarskie.pl
ORGANIZER;CN="wind":kontakt@forumwedkarskie.pl
DESCRIPTION:
DTSTART;VALUE=DATE:20130809
DTEND;VALUE=DATE:20130812
END:VEVENT
BEGIN:VEVENT
SUMMARY:Sp??awikowe GPx Puchar Be??chatowa
DTSTAMP:20130124T133640Z
SEQUENCE:0
UID:1120-2-aeac1a162b24d20a0e73454c683939ce@forumwedkarskie.pl
ORGANIZER;CN="wind":kontakt@forumwedkarskie.pl
DESCRIPTION:
DTSTART;VALUE=DATE:20130510
DTEND;VALUE=DATE:20130513
END:VEVENT
BEGIN:VEVENT
SUMMARY:
DTSTAMP:20130124T132820Z
SEQUENCE:0
UID:1119-2-aeac1a162b24d20a0e73454c683939ce@forumwedkarskie.pl
ORGANIZER;CN="wind":kontakt@forumwedkarskie.pl
DESCRIPTION:
DTSTART;VALUE=DATE:20130426
DTEND;VALUE=DATE:20130429
END:VEVENT
BEGIN:VEVENT
SUMMARY:
DTSTAMP:20130124T120214Z
SEQUENCE:0
UID:1118-2-aeac1a162b24d20a0e73454c683939ce@forumwedkarskie.pl
ORGANIZER;CN="hege":kontakt@forumwedkarskie.pl
DESCRIPTION:
DTSTART;VALUE=DATE:20130308
DTEND;VALUE=DATE:20130311
END:VEVENT
BEGIN:VEVENT
SUMMARY:
DTSTAMP:20130124T095010Z
SEQUENCE:1
UID:1117-2-aeac1a162b24d20a0e73454c683939ce@forumwedkarskie.pl
ORGANIZER;CN="hege":kontakt@forumwedkarskie.pl
DESCRIPTION:
DTSTART;VALUE=DATE:20130222
DTEND;VALUE=DATE:20130225
END:VEVENT
END:VCALENDAR
